BEGIN:VCALENDAR
VERSION:2.0
PRODID:-//Tukios.com/
BEGIN:VEVENT
UID:bc196ff6-00f4-46be-8ad1-3ea3c4acd803@www.dalfonso-billick.com
DTSTAMP:20260421T183400Z
DTSTART:20260424T140000Z
DTEND:20260424T150000Z
SUMMARY:Mass
DESCRIPTION:
URL:https://www.dalfonso-billick.com/obituaries/james-russell
LOCATION:Epiphany of our Lord 44 Pennsylvania Blvd.  Monessen PA 15062
GEO:40.1428129;-79.8844309
END:VEVENT
END:VCALENDAR