BEGIN:VCALENDAR
VERSION:2.0
PRODID:-//Tukios.com/
BEGIN:VEVENT
UID:8179ced2-bcc3-48f3-9a9f-dbc23c2e0ccf@www.dalfonso-billick.com
DTSTAMP:20260421T183355Z
DTSTART:20260424T133000Z
DTEND:20260424T134500Z
SUMMARY:Blessing Service
DESCRIPTION:
URL:https://www.dalfonso-billick.com/obituaries/james-russell
LOCATION:Dalfonso-Billick Funeral Home Inc. and Cremation Services 441 
	Reed Ave  Monessen PA 15062
GEO:40.1594588;-79.886426
END:VEVENT
END:VCALENDAR