BEGIN:VCALENDAR
VERSION:2.0
PRODID:-//Tukios.com/
BEGIN:VEVENT
UID:e5ae4bb3-8634-4521-b0d5-fa717521c527@www.dalfonso-billick.com
DTSTAMP:20260421T183354Z
DTSTART:20260423T180000Z
DTEND:20260423T220000Z
SUMMARY:Visitation
DESCRIPTION:
URL:https://www.dalfonso-billick.com/obituaries/james-russell
LOCATION:Dalfonso-Billick Funeral Home Inc. and Cremation Services 441 
	Reed Ave  Monessen PA 15062
GEO:40.1594588;-79.886426
END:VEVENT
END:VCALENDAR